BEGIN:VCALENDAR
PRODID:-//eluceo/ical//2.0/EN
VERSION:2.0
CALSCALE:GREGORIAN
BEGIN:VEVENT
UID:4ae82283bf9308c9d39d003083782113
DTSTAMP:20260421T192926Z
SUMMARY:Israeli Artist in Residence Workshop for Memphis Synagogue Members
DESCRIPTION:Jewish Community Partners\nMemphis Jewish Community Calendar\nh
 ttps://jcpmemphis.org/community-calendar/-israeli-artist-in-residence-work
 shop-for-memphis-synagogue-members-1443815534\n\nIn this workshop with Isr
 aeli Artist in Residence\, Shirel Horovitz\, participants will use various
  printing techniques to explore the relationship between their own Jewish 
 identity and the layout and history of Memphis. The prints and objects cre
 ated in the workshop will remain in the artist’s studio to either inspir
 e or be part of the larger installation that will open in the gallery on N
 ovember 11. No prior art experience necessary. Maximum 15 participants per
  workshop. This will take plac...
DTSTART;TZID=America/Chicago:20151028T190000
DTEND;TZID=America/Chicago:20151028T210000
END:VEVENT
END:VCALENDAR
