BEGIN:VCALENDAR
PRODID:-//eluceo/ical//2.0/EN
VERSION:2.0
CALSCALE:GREGORIAN
BEGIN:VEVENT
UID:cf9ab0c5994abc1749ffcfde757f46d5
DTSTAMP:20260422T090820Z
SUMMARY:9th Annual Cooper Yeshiva Invitational Basketball Tournament
DESCRIPTION:Jewish Community Partners\nMemphis Jewish Community Calendar\nh
 ttps://jcpmemphis.org/community-calendar/9th-annual-cooper-yeshiva-invitat
 ional-basketball-tournament-1424274654\n\nHosted by the Margolin Hebrew Ac
 ademy\, the tournament is the second largest yeshiva high school athletic 
 event in North America.
DTSTART;TZID=America/Chicago:20151105T080000
DTEND;TZID=America/Chicago:20151108T080000
END:VEVENT
END:VCALENDAR
