BEGIN:VCALENDAR
PRODID:-//eluceo/ical//2.0/EN
VERSION:2.0
CALSCALE:GREGORIAN
BEGIN:VEVENT
UID:004a77902212becc58243029e89f8cfb
DTSTAMP:20260422T142745Z
SUMMARY:BBYO Okeon & Kriger Intakes
DESCRIPTION:Jewish Community Partners\nMemphis Jewish Community Calendar\nh
 ttps://jcpmemphis.org/community-calendar/BBYO-Okeon-and-Kriger-Intakes\n\n
 BBYO Okeon & Kriger Intakes
DTSTART;TZID=America/Chicago:20140823T203000
DTEND;TZID=America/Chicago:20140823T223000
END:VEVENT
END:VCALENDAR
