BEGIN:VCALENDAR
PRODID:-//eluceo/ical//2.0/EN
VERSION:2.0
CALSCALE:GREGORIAN
BEGIN:VEVENT
UID:9a60afde86e9b9121e10c289b489748c
DTSTAMP:20260425T110051Z
SUMMARY:BSSS Full Board Meeting
DESCRIPTION:Jewish Community Partners\nMemphis Jewish Community Calendar\nh
 ttps://jcpmemphis.org/community-calendar/BSSS--Full--Board-Meeting\n\nBSSS
  Full Board Meeting
DTSTART;TZID=America/Chicago:20150323T190000
DTEND;TZID=America/Chicago:20150323T193000
END:VEVENT
END:VCALENDAR
