BEGIN:VCALENDAR
PRODID:-//eluceo/ical//2.0/EN
VERSION:2.0
CALSCALE:GREGORIAN
BEGIN:VEVENT
UID:e1cf153e7522ea9f21b25f48d66731fe
DTSTAMP:20260420T132829Z
SUMMARY:BSSS Board Training and Retreat
DESCRIPTION:Jewish Community Partners\nMemphis Jewish Community Calendar\nh
 ttps://jcpmemphis.org/community-calendar/BSSS-Board-Retreat\n\nBSSS Board 
 Training and Retreat
DTSTART;TZID=America/Chicago:20140817T100000
DTEND;TZID=America/Chicago:20140817T110000
END:VEVENT
END:VCALENDAR
