BEGIN:VCALENDAR
PRODID:-//eluceo/ical//2.0/EN
VERSION:2.0
CALSCALE:GREGORIAN
BEGIN:VEVENT
UID:73e47fabbc09c145ab4094ab7567b868
DTSTAMP:20260422T201252Z
SUMMARY:BSSS New Parent Orientation
DESCRIPTION:Jewish Community Partners\nMemphis Jewish Community Calendar\nh
 ttps://jcpmemphis.org/community-calendar/BSSS-New-Parent-Orientation\n\nBS
 SS New Parent Orientation
DTSTART;TZID=America/Chicago:20140807T183000
DTEND;TZID=America/Chicago:20140807T190000
END:VEVENT
END:VCALENDAR
