BEGIN:VCALENDAR
PRODID:-//eluceo/ical//2.0/EN
VERSION:2.0
CALSCALE:GREGORIAN
BEGIN:VEVENT
UID:edaa81fd28405800f1de7182aeb64303
DTSTAMP:20260425T025417Z
SUMMARY:BSSS Parent Information Night
DESCRIPTION:Jewish Community Partners\nMemphis Jewish Community Calendar\nh
 ttps://jcpmemphis.org/community-calendar/BSSS-Parent-Info-Night\n\nBSSS Pa
 rent Information Night
DTSTART;TZID=America/Chicago:20140814T183000
DTEND;TZID=America/Chicago:20140814T193000
END:VEVENT
END:VCALENDAR
