BEGIN:VCALENDAR
PRODID:-//eluceo/ical//2.0/EN
VERSION:2.0
CALSCALE:GREGORIAN
BEGIN:VEVENT
UID:53bf867e55b7026250ec317220273660
DTSTAMP:20260419T171517Z
SUMMARY:Baron Hirsch Board Meeting
DESCRIPTION:Jewish Community Partners\nMemphis Jewish Community Calendar\nh
 ttps://jcpmemphis.org/community-calendar/Baron--Hirsch---Board-Meeting\n\n
 Baron Hirsch Board Meeting
DTSTART;TZID=America/Chicago:20141202T193000
DTEND;TZID=America/Chicago:20141202T200000
END:VEVENT
END:VCALENDAR
