BEGIN:VCALENDAR
PRODID:-//eluceo/ical//2.0/EN
VERSION:2.0
CALSCALE:GREGORIAN
BEGIN:VEVENT
UID:589d0e958f600626ec5444705de3b9b9
DTSTAMP:20260422T230228Z
SUMMARY:Baron Hirsch Art Event
DESCRIPTION:Jewish Community Partners\nMemphis Jewish Community Calendar\nh
 ttps://jcpmemphis.org/community-calendar/Baron-Hirsch-Art--Event\n\nBaron 
 Hirsch Art Event
DTSTART;TZID=America/Chicago:20141207T090000
DTEND;TZID=America/Chicago:20141207T160000
END:VEVENT
END:VCALENDAR
