BEGIN:VCALENDAR
PRODID:-//eluceo/ical//2.0/EN
VERSION:2.0
CALSCALE:GREGORIAN
BEGIN:VEVENT
UID:50f5f8f3642bdc39431b24e25d4aac8e
DTSTAMP:20260422T162027Z
SUMMARY:Cooper Yeshiva High School Steak Dinner
DESCRIPTION:Jewish Community Partners\nMemphis Jewish Community Calendar\nh
 ttps://jcpmemphis.org/community-calendar/CYHSB-Steak--Dinner\n\nThe CYHSB 
 Steak Dinner is planned and executed by the boys in the high school. In ad
 dition to preparing and serving the entire dinner\, the students also take
  this opportunity to honor someone who has made an important contribution 
 to the school.
DTSTART;TZID=America/Chicago:20141123T183000
DTEND;TZID=America/Chicago:20141123T210000
END:VEVENT
END:VCALENDAR
