BEGIN:VCALENDAR
PRODID:-//eluceo/ical//2.0/EN
VERSION:2.0
CALSCALE:GREGORIAN
BEGIN:VEVENT
UID:7e5a98ebbeb855ae735321ce25c2f404
DTSTAMP:20260423T105839Z
SUMMARY:MHA Fall Festival
DESCRIPTION:Jewish Community Partners\nMemphis Jewish Community Calendar\nh
 ttps://jcpmemphis.org/community-calendar/MHA-Fall--Festival\n\nMHA Fall Fe
 stival
DTSTART;TZID=America/Chicago:20141026T100000
DTEND;TZID=America/Chicago:20141026T130000
END:VEVENT
END:VCALENDAR
