BEGIN:VCALENDAR
PRODID:-//eluceo/ical//2.0/EN
VERSION:2.0
CALSCALE:GREGORIAN
BEGIN:VEVENT
UID:ff79c288bf417b61982a3b13e9cbe7b2
DTSTAMP:20260422T190142Z
SUMMARY:Community-Wide MHA PTA Meeting
DESCRIPTION:Jewish Community Partners\nMemphis Jewish Community Calendar\nh
 ttps://jcpmemphis.org/community-calendar/MHA-PTA-community-wide-meeting\n\
 nCommunity-Wide MHA PTA Meeting
DTSTART;TZID=America/Chicago:20140825T200000
DTEND;TZID=America/Chicago:20140825T210000
END:VEVENT
END:VCALENDAR
