BEGIN:VCALENDAR
PRODID:-//eluceo/ical//2.0/EN
VERSION:2.0
CALSCALE:GREGORIAN
BEGIN:VEVENT
UID:5dcdbe353e55b7749b225002a7afac99
DTSTAMP:20260424T080112Z
SUMMARY:Jewish Historical Society Speaker Dennis Ross
DESCRIPTION:Jewish Community Partners\nMemphis Jewish Community Calendar\nh
 ttps://jcpmemphis.org/community-calendar/Speaker-Dennis-Ross\n\nAmbassador
  Dennis Ross will speak at Temple Israel. This event is open to the commun
 ity and is sponsored by the Jewish Historical Society and the Berz Stern F
 und.
DTSTART;TZID=America/Chicago:20140914T130000
DTEND;TZID=America/Chicago:20140914T160000
END:VEVENT
END:VCALENDAR
