BEGIN:VCALENDAR
PRODID:-//eluceo/ical//2.0/EN
VERSION:2.0
CALSCALE:GREGORIAN
BEGIN:VEVENT
UID:ad96a8c1ccc2c4f13774d238079e7213
DTSTAMP:20260422T123804Z
SUMMARY:Temple Israel's Program on Israel
DESCRIPTION:Jewish Community Partners\nMemphis Jewish Community Calendar\nh
 ttps://jcpmemphis.org/community-calendar/TI-Israel-Program\n\nTemple Israe
 l's Program on Israel
DTSTART;TZID=America/Chicago:20141020T190000
DTEND;TZID=America/Chicago:20141020T210000
END:VEVENT
END:VCALENDAR
