BEGIN:VCALENDAR
PRODID:-//eluceo/ical//2.0/EN
VERSION:2.0
CALSCALE:GREGORIAN
BEGIN:VEVENT
UID:54924cdd5ce8d32eb72f06ad874aec11
DTSTAMP:20260425T141202Z
SUMMARY:A Night of Comic Belief
DESCRIPTION:Jewish Community Partners\nMemphis Jewish Community Calendar\nh
 ttps://jcpmemphis.org/community-calendar/a-night-of-comic-belief-151311811
 5\n\nSeeking Relief from the seemingly endless interdenominational Jewish 
 challenges? Join comedians representing each of the three major Jewish den
 ominations as they share their best Jewish jokes\, stories\, and conversat
 ions.
DTSTART;TZID=America/Chicago:20181103T200000
DTEND;TZID=America/Chicago:20181103T220000
END:VEVENT
END:VCALENDAR
