BEGIN:VCALENDAR
PRODID:-//eluceo/ical//2.0/EN
VERSION:2.0
CALSCALE:GREGORIAN
BEGIN:VEVENT
UID:0dbdfc7bdbf844cf24cc58fd76fed2fa
DTSTAMP:20260421T154849Z
SUMMARY:Amazing Raise Follow-Up Night
DESCRIPTION:Jewish Community Partners\nMemphis Jewish Community Calendar\nh
 ttps://jcpmemphis.org/community-calendar/amazing-raise-follow-up-night\n\n
 Help us make calls to those we did not reach on Super Sunday!
DTSTART;TZID=America/Chicago:20160209T190000
DTEND;TZID=America/Chicago:20160209T210000
END:VEVENT
END:VCALENDAR
