BEGIN:VCALENDAR
PRODID:-//eluceo/ical//2.0/EN
VERSION:2.0
CALSCALE:GREGORIAN
BEGIN:VEVENT
UID:045d6c7009dfecd1d8df495c05a40cb4
DTSTAMP:20260420T092831Z
SUMMARY:An evening with Rabbi Wein
DESCRIPTION:Jewish Community Partners\nMemphis Jewish Community Calendar\nh
 ttps://jcpmemphis.org/community-calendar/an-evening-with-rabbi-wein-148399
 7552\n\nAn lecture evening with Rabbi Wein
DTSTART;TZID=America/Chicago:20170425T180000
DTEND;TZID=America/Chicago:20170425T213000
END:VEVENT
END:VCALENDAR
