BEGIN:VCALENDAR
PRODID:-//eluceo/ical//2.0/EN
VERSION:2.0
CALSCALE:GREGORIAN
BEGIN:VEVENT
UID:5de82a61d7f4a3fa7c1394d2cd4f1bc9
DTSTAMP:20260423T174237Z
SUMMARY:ASBEE 30th Annual Kosher BBQ Competition & Festival
DESCRIPTION:Jewish Community Partners\nMemphis Jewish Community Calendar\nh
 ttps://jcpmemphis.org/community-calendar/asbee-30th-annual-kosher-bbq-comp
 etition--festival-1508877034\n\nThe 30th Anniversary of ASBEE's original k
 osher BBQ competition - including the BBQ team competition\, 3 on 3 basket
 ball competition\, pickle eating contest\, Kids Corral (including face pai
 nting\, petting zoo\, and much more)\, the famous ASBEE Sisterhood's Cowsh
 er Cafe featuring delicious food\, live music\, and so much more.Come cele
 brate this landmark event with us!
DTSTART;TZID=America/Chicago:20181021T090000
DTEND;TZID=America/Chicago:20181021T150000
END:VEVENT
END:VCALENDAR
