BEGIN:VCALENDAR
PRODID:-//eluceo/ical//2.0/EN
VERSION:2.0
CALSCALE:GREGORIAN
BEGIN:VEVENT
UID:a88caf9d620517cb6fdbf09bd6f925d5
DTSTAMP:20260420T090935Z
SUMMARY:ASBEE Annual Meeting and Installation
DESCRIPTION:Jewish Community Partners\nMemphis Jewish Community Calendar\nh
 ttps://jcpmemphis.org/community-calendar/asbee-annual-meeting-and-installa
 tion-1545929959\n\nAnshei Sphard - Beth El Emeth Congregation will hold it
 s annual congregational meeting and installation on Sunday\, January 20th\
 , 2019 at ASBEE.Following morning minyan at 8am\, there will be a complime
 ntary breakfast for congregants at 9am. The annual meeting will begin at 1
 0am\, and will include officers' and committee reports\, presentation of t
 he slate of officers and board members for 2019\, and special presentation
 s.All members of Anshei Sphard - Beth El Emeth are welcome to attend.
DTSTART;TZID=America/Chicago:20190120T090000
DTEND;TZID=America/Chicago:20190120T110000
END:VEVENT
END:VCALENDAR
