BEGIN:VCALENDAR
PRODID:-//eluceo/ical//2.0/EN
VERSION:2.0
CALSCALE:GREGORIAN
BEGIN:VEVENT
UID:b73b83c26b71a6dc0b40f442206ced52
DTSTAMP:20260425T140807Z
SUMMARY:ASBEE Sisterhood Lunch and Learn
DESCRIPTION:Jewish Community Partners\nMemphis Jewish Community Calendar\nh
 ttps://jcpmemphis.org/community-calendar/asbee-sisterhood-lunch-and-learn-
 1528474143\n\nLunch and Study Group with Rabbi Finkelstein
DTSTART;TZID=America/Chicago:20181129T120000
DTEND;TZID=America/Chicago:20181129T133000
END:VEVENT
END:VCALENDAR
