BEGIN:VCALENDAR
PRODID:-//eluceo/ical//2.0/EN
VERSION:2.0
CALSCALE:GREGORIAN
BEGIN:VEVENT
UID:e0523df5706f0bbea64373540853d6fa
DTSTAMP:20260423T233449Z
SUMMARY:ASBEE Women's Rosh Chodesh Group
DESCRIPTION:Jewish Community Partners\nMemphis Jewish Community Calendar\nh
 ttps://jcpmemphis.org/community-calendar/asbee-womens-rosh-chodesh-group-1
 566399167\n\nInformal\, interactive women's text study in celebration of R
 osh Chodesh.
DTSTART;TZID=America/Chicago:20190909T190000
DTEND;TZID=America/Chicago:20190909T201500
END:VEVENT
END:VCALENDAR
