BEGIN:VCALENDAR
PRODID:-//eluceo/ical//2.0/EN
VERSION:2.0
CALSCALE:GREGORIAN
BEGIN:VEVENT
UID:dc9452bf8ba88cfce98196f5a1a3808a
DTSTAMP:20260420T060827Z
SUMMARY:ASBEE Women's Rosh Chodesh Group
DESCRIPTION:Jewish Community Partners\nMemphis Jewish Community Calendar\nh
 ttps://jcpmemphis.org/community-calendar/asbee-womens-rosh-chodesh-group-1
 576692556\n\nInformal\, interactive women's Torah text study in celebratio
 n of Rosh Chodesh.
DTSTART;TZID=America/Chicago:20200126T101500
DTEND;TZID=America/Chicago:20200126T111500
END:VEVENT
END:VCALENDAR
