BEGIN:VCALENDAR
PRODID:-//eluceo/ical//2.0/EN
VERSION:2.0
CALSCALE:GREGORIAN
BEGIN:VEVENT
UID:7326b209917d91d4e2320111d5c83be8
DTSTAMP:20260423T103105Z
SUMMARY:Baby and Me Class
DESCRIPTION:Jewish Community Partners\nMemphis Jewish Community Calendar\nh
 ttps://jcpmemphis.org/community-calendar/baby-and-me-class-1475790568\n\nY
 ou will interact with your child by singing songs and participating in the
  activities offered by our wonderful teacher. Infants and toddlers acquire
  listening skills with rhymes and finger-plays\, clap hands to the rhythms
 \, and take turns ringing the welcome bell. A great way to meet new people
  and create friendships with other parents\, many play dates have been arr
 anged amongst those attending. An interactive class is the perfect introdu
 ction to a school setting for very young infants and to...
DTSTART;TZID=America/Chicago:20161006T100000
DTEND;TZID=America/Chicago:20161006T110000
END:VEVENT
END:VCALENDAR
