BEGIN:VCALENDAR
PRODID:-//eluceo/ical//2.0/EN
VERSION:2.0
CALSCALE:GREGORIAN
BEGIN:VEVENT
UID:23ff336171bab2437119b9bab9adc046
DTSTAMP:20260423T181205Z
SUMMARY:Baron Hirsch Annual Meeting
DESCRIPTION:Jewish Community Partners\nMemphis Jewish Community Calendar\nh
 ttps://jcpmemphis.org/community-calendar/baron-hirsch-annual-meeting\n\nBa
 ron Hirsch Annual Meeting
DTSTART;TZID=America/Chicago:20140112T100000
DTEND;TZID=America/Chicago:20140112T120000
END:VEVENT
END:VCALENDAR
