BEGIN:VCALENDAR
PRODID:-//eluceo/ical//2.0/EN
VERSION:2.0
CALSCALE:GREGORIAN
BEGIN:VEVENT
UID:eb91f4499b4d3c8aa355ac387532f854
DTSTAMP:20260422T025437Z
SUMMARY:Baron Hirsch Artists Ascending Concert
DESCRIPTION:Jewish Community Partners\nMemphis Jewish Community Calendar\nh
 ttps://jcpmemphis.org/community-calendar/baron-hirsch-artists-ascending-co
 ncert-1423088915\n\nArtists Ascending Concert Series
DTSTART;TZID=America/Chicago:20150323T190000
DTEND;TZID=America/Chicago:20150323T210000
END:VEVENT
END:VCALENDAR
