BEGIN:VCALENDAR
PRODID:-//eluceo/ical//2.0/EN
VERSION:2.0
CALSCALE:GREGORIAN
BEGIN:VEVENT
UID:ff4b47e2f4d28d7652f2ac2d59e8a22a
DTSTAMP:20260425T131518Z
SUMMARY:Baron Hirsch Board Meeting 
DESCRIPTION:Jewish Community Partners\nMemphis Jewish Community Calendar\nh
 ttps://jcpmemphis.org/community-calendar/baron-hirsch-board-meeting-145409
 7294\n\nBaron Hirsch Board Meeting
DTSTART;TZID=America/Chicago:20161214T193000
DTEND;TZID=America/Chicago:20161214T213000
END:VEVENT
END:VCALENDAR
