BEGIN:VCALENDAR
PRODID:-//eluceo/ical//2.0/EN
VERSION:2.0
CALSCALE:GREGORIAN
BEGIN:VEVENT
UID:a97fd30ea8311c90503f131c848853d7
DTSTAMP:20260426T040715Z
SUMMARY:Baron Hirsch Board Meeting
DESCRIPTION:Jewish Community Partners\nMemphis Jewish Community Calendar\nh
 ttps://jcpmemphis.org/community-calendar/baron-hirsch-board-meeting-151499
 6885\n\nBaron Hirsch Board Meeting
DTSTART;TZID=America/Chicago:20180131T190000
DTEND;TZID=America/Chicago:20180131T210000
END:VEVENT
END:VCALENDAR
