BEGIN:VCALENDAR
PRODID:-//eluceo/ical//2.0/EN
VERSION:2.0
CALSCALE:GREGORIAN
BEGIN:VEVENT
UID:cca7dd42ba8bdd9f943584dd7a94436a
DTSTAMP:20260419T161818Z
SUMMARY:Baron Hirsch Board Meeting
DESCRIPTION:Jewish Community Partners\nMemphis Jewish Community Calendar\nh
 ttps://jcpmemphis.org/community-calendar/baron-hirsch-board-meeting-151500
 1717\n\nBaron Hirsch Board Meeting
DTSTART;TZID=America/Chicago:20180515T183000
DTEND;TZID=America/Chicago:20180515T203000
END:VEVENT
END:VCALENDAR
