BEGIN:VCALENDAR
PRODID:-//eluceo/ical//2.0/EN
VERSION:2.0
CALSCALE:GREGORIAN
BEGIN:VEVENT
UID:0f33cffb1ca59443e2d19e541184fe3b
DTSTAMP:20260422T130842Z
SUMMARY:Baron Hirsch Chesed Box Packing
DESCRIPTION:Jewish Community Partners\nMemphis Jewish Community Calendar\nh
 ttps://jcpmemphis.org/community-calendar/baron-hirsch-chesed-box-packing-1
 497396199\n\nPack & deliver holiday food boxes to local families in need.
DTSTART;TZID=America/Chicago:20170917T100000
DTEND;TZID=America/Chicago:20170917T120000
END:VEVENT
END:VCALENDAR
