BEGIN:VCALENDAR
PRODID:-//eluceo/ical//2.0/EN
VERSION:2.0
CALSCALE:GREGORIAN
BEGIN:VEVENT
UID:2b73732cf61dfc0ba21377b24b40a718
DTSTAMP:20260425T175016Z
SUMMARY:Baron Hirsch Community Seder
DESCRIPTION:Jewish Community Partners\nMemphis Jewish Community Calendar\nh
 ttps://jcpmemphis.org/community-calendar/baron-hirsch-community-seder-1497
 898106\n\nBaron Hirsch Community Seder
DTSTART;TZID=America/Chicago:20180330T200000
DTEND;TZID=America/Chicago:20180330T220000
END:VEVENT
END:VCALENDAR
