BEGIN:VCALENDAR
PRODID:-//eluceo/ical//2.0/EN
VERSION:2.0
CALSCALE:GREGORIAN
BEGIN:VEVENT
UID:c32e9ed821929fb080f5f71fc612a5d8
DTSTAMP:20260421T093751Z
SUMMARY:Baron Hirsch Family Sukkah Party 
DESCRIPTION:Jewish Community Partners\nMemphis Jewish Community Calendar\nh
 ttps://jcpmemphis.org/community-calendar/baron-hirsch-family-sukkah-party\
 n\nBH Family Sukkah Party
DTSTART;TZID=America/Chicago:20130922T170000
DTEND;TZID=America/Chicago:20130922T173000
END:VEVENT
END:VCALENDAR
