BEGIN:VCALENDAR
PRODID:-//eluceo/ical//2.0/EN
VERSION:2.0
CALSCALE:GREGORIAN
BEGIN:VEVENT
UID:c4d415d80e78e9cf651db98c497e059c
DTSTAMP:20260424T094049Z
SUMMARY:Baron Hirsch Guest Lecture
DESCRIPTION:Jewish Community Partners\nMemphis Jewish Community Calendar\nh
 ttps://jcpmemphis.org/community-calendar/baron-hirsch-guest-lecture-150297
 7767\n\nBaron Hirsch present's Yeshiva University's Rabbi Lawrence Hajioff
  who will speak on themes of Yom Kippur
DTSTART;TZID=America/Chicago:20170925T190000
DTEND;TZID=America/Chicago:20170925T203000
END:VEVENT
END:VCALENDAR
