BEGIN:VCALENDAR
PRODID:-//eluceo/ical//2.0/EN
VERSION:2.0
CALSCALE:GREGORIAN
BEGIN:VEVENT
UID:2665f034f9ad8f891d310bbab809af55
DTSTAMP:20260422T105028Z
SUMMARY:Baron Hirsch Jewish History Book Club
DESCRIPTION:Jewish Community Partners\nMemphis Jewish Community Calendar\nh
 ttps://jcpmemphis.org/community-calendar/baron-hirsch-jewish-history-book-
 club-1434559472\n\nBaron Hirsch Jewish History Book Club
DTSTART;TZID=America/Chicago:20160509T200000
DTEND;TZID=America/Chicago:20160509T210000
END:VEVENT
END:VCALENDAR
