BEGIN:VCALENDAR
PRODID:-//eluceo/ical//2.0/EN
VERSION:2.0
CALSCALE:GREGORIAN
BEGIN:VEVENT
UID:e58630258ccb43af40a230d4785c2a64
DTSTAMP:20260419T153721Z
SUMMARY:Baron Hirsch Kinder Kabbalat Shabbat
DESCRIPTION:Jewish Community Partners\nMemphis Jewish Community Calendar\nh
 ttps://jcpmemphis.org/community-calendar/baron-hirsch-kinder-kabbalat-shab
 bat-1478640326\n\nStories\, davening\, singing and games with Rachael Rovn
 er & Rabbi Lehrfield\; Ages 3 - 8\, parents encouraged to attend.
DTSTART;TZID=America/Chicago:20161118T170000
DTEND;TZID=America/Chicago:20161118T173000
END:VEVENT
END:VCALENDAR
