BEGIN:VCALENDAR
PRODID:-//eluceo/ical//2.0/EN
VERSION:2.0
CALSCALE:GREGORIAN
BEGIN:VEVENT
UID:41e852f2f4abd30574d7e6fee9fd7cc4
DTSTAMP:20260419T142635Z
SUMMARY:Baron Hirsch Kol Rena So-Shuls Lunch
DESCRIPTION:Jewish Community Partners\nMemphis Jewish Community Calendar\nh
 ttps://jcpmemphis.org/community-calendar/baron-hirsch-kol-rena-so-shuls-lu
 nch-1471995916\n\nSenior Lunch\, Bingo & Entertainment
DTSTART;TZID=America/Chicago:20161116T120000
DTEND;TZID=America/Chicago:20161116T133000
END:VEVENT
END:VCALENDAR
