BEGIN:VCALENDAR
PRODID:-//eluceo/ical//2.0/EN
VERSION:2.0
CALSCALE:GREGORIAN
BEGIN:VEVENT
UID:28006f41d33bb3c03f0e313ca983cf92
DTSTAMP:20260423T114937Z
SUMMARY:Baron Hirsch Pre-Passover Cafe
DESCRIPTION:Jewish Community Partners\nMemphis Jewish Community Calendar\nh
 ttps://jcpmemphis.org/community-calendar/baron-hirsch-pre-passover-cafe-14
 72360739\n\nEase your transition to Passover with our cafe
DTSTART;TZID=America/Chicago:20170409T160000
DTEND;TZID=America/Chicago:20170409T190000
END:VEVENT
END:VCALENDAR
