BEGIN:VCALENDAR
PRODID:-//eluceo/ical//2.0/EN
VERSION:2.0
CALSCALE:GREGORIAN
BEGIN:VEVENT
UID:c92edce6ac82b0dd47e7670bc6dbebb5
DTSTAMP:20260423T215420Z
SUMMARY:Baron Hirsch Scholar - Michael Berger
DESCRIPTION:Jewish Community Partners\nMemphis Jewish Community Calendar\nh
 ttps://jcpmemphis.org/community-calendar/baron-hirsch-scholar---michael-be
 rger-31091\n\nBH Scholar - Michael Berger
DTSTART;TZID=America/Chicago:20130215T180000
DTEND;TZID=America/Chicago:20130216T180000
END:VEVENT
END:VCALENDAR
