BEGIN:VCALENDAR
PRODID:-//eluceo/ical//2.0/EN
VERSION:2.0
CALSCALE:GREGORIAN
BEGIN:VEVENT
UID:56fbd2a37399167f099fc1cfaf77eed2
DTSTAMP:20260421T172654Z
SUMMARY:Baron Hirsch Presents Chief Rabbi Efraim Mirvis
DESCRIPTION:Jewish Community Partners\nMemphis Jewish Community Calendar\nh
 ttps://jcpmemphis.org/community-calendar/baron-hirsch-scholar-in-residence
 -1525437845\n\nChief Rabbi Efraim Mirvis\, Chief Rabbi of the United Kingd
 om and Commenwealth\, will serve as Scholar-in-Residence at Baron Hirsch f
 or Shabbat
DTSTART;TZID=America/Chicago:20180824T180000
DTEND;TZID=America/Chicago:20180825T210000
END:VEVENT
END:VCALENDAR
