BEGIN:VCALENDAR
PRODID:-//eluceo/ical//2.0/EN
VERSION:2.0
CALSCALE:GREGORIAN
BEGIN:VEVENT
UID:09968cdd0834a114d52c745d26794c03
DTSTAMP:20260422T165851Z
SUMMARY:Baron Hirsch Scholar-in-Residence
DESCRIPTION:Jewish Community Partners\nMemphis Jewish Community Calendar\nh
 ttps://jcpmemphis.org/community-calendar/baron-hirsch-scholar-in-residence
 -1527863733\n\nBaron Hirsch Scholar-in-Residence
DTSTART;TZID=America/Chicago:20190504T090000
DTEND;TZID=America/Chicago:20190504T200000
END:VEVENT
END:VCALENDAR
