BEGIN:VCALENDAR
PRODID:-//eluceo/ical//2.0/EN
VERSION:2.0
CALSCALE:GREGORIAN
BEGIN:VEVENT
UID:eb0bcd68f5446dbf0011b6179daa7d5a
DTSTAMP:20260421T202048Z
SUMMARY:Baron Hirsch So-Shuls Lunch
DESCRIPTION:Jewish Community Partners\nMemphis Jewish Community Calendar\nh
 ttps://jcpmemphis.org/community-calendar/baron-hirsch-so-shuls-lunch-15610
 46671\n\nBaron Hirsch So-Shuls Lunch
DTSTART;TZID=America/Chicago:20190918T120000
DTEND;TZID=America/Chicago:20190918T140000
END:VEVENT
END:VCALENDAR
