BEGIN:VCALENDAR
PRODID:-//eluceo/ical//2.0/EN
VERSION:2.0
CALSCALE:GREGORIAN
BEGIN:VEVENT
UID:20284be5a300dbafd76e2c7a5cf722d4
DTSTAMP:20260424T052411Z
SUMMARY:Baron Hirsch So-Shuls Luncheon
DESCRIPTION:Jewish Community Partners\nMemphis Jewish Community Calendar\nh
 ttps://jcpmemphis.org/community-calendar/baron-hirsch-so-shuls-luncheon-14
 32909858\n\nLunch & Bingo for Seniors - $3 RSVP to 683-7485
DTSTART;TZID=America/Chicago:20151216T120000
DTEND;TZID=America/Chicago:20151216T133000
END:VEVENT
END:VCALENDAR
