BEGIN:VCALENDAR
PRODID:-//eluceo/ical//2.0/EN
VERSION:2.0
CALSCALE:GREGORIAN
BEGIN:VEVENT
UID:daf2fcf40fed7250ba91cded1d12bd52
DTSTAMP:20260423T040216Z
SUMMARY:Baron Hirsch So-Shuls Luncheon
DESCRIPTION:Jewish Community Partners\nMemphis Jewish Community Calendar\nh
 ttps://jcpmemphis.org/community-calendar/baron-hirsch-so-shuls-luncheon-14
 32910121\n\nLunch & Bingo for Seniors - $3 RSVP to 683-7485
DTSTART;TZID=America/Chicago:20160316T120000
DTEND;TZID=America/Chicago:20160316T133000
END:VEVENT
END:VCALENDAR
