BEGIN:VCALENDAR
PRODID:-//eluceo/ical//2.0/EN
VERSION:2.0
CALSCALE:GREGORIAN
BEGIN:VEVENT
UID:a71ae6a017a1479d133a9c39f14bd371
DTSTAMP:20260420T003902Z
SUMMARY:Baron Hirsch Teen Minyan
DESCRIPTION:Jewish Community Partners\nMemphis Jewish Community Calendar\nh
 ttps://jcpmemphis.org/community-calendar/baron-hirsch-teen-minyan-15100945
 03\n\nBaron Hirsch Teen Minyan
DTSTART;TZID=America/Chicago:20180421T090000
DTEND;TZID=America/Chicago:20180421T235959
END:VEVENT
END:VCALENDAR
