BEGIN:VCALENDAR
PRODID:-//eluceo/ical//2.0/EN
VERSION:2.0
CALSCALE:GREGORIAN
BEGIN:VEVENT
UID:970b29b7308e662526a2acbdc90082fb
DTSTAMP:20260424T205609Z
SUMMARY:Baron Hirsch Tikkun Leil Shavuot
DESCRIPTION:Jewish Community Partners\nMemphis Jewish Community Calendar\nh
 ttps://jcpmemphis.org/community-calendar/baron-hirsch-tikkun-leil-shavuot-
 1492749665\n\nAll night Shavuot learning at Baron Hirsch\, now beginning a
 t an earlier time to include more people! Special Chinese buffet at midnig
 ht.
DTSTART;TZID=America/Chicago:20170530T223000
DTEND;TZID=America/Chicago:20170531T050000
END:VEVENT
END:VCALENDAR
