BEGIN:VCALENDAR
PRODID:-//eluceo/ical//2.0/EN
VERSION:2.0
CALSCALE:GREGORIAN
BEGIN:VEVENT
UID:2bbfb6e1ae1a999303748bb753a8ca09
DTSTAMP:20260423T114154Z
SUMMARY:Baron Hirsch Tot Holiday Craft Program
DESCRIPTION:Jewish Community Partners\nMemphis Jewish Community Calendar\nh
 ttps://jcpmemphis.org/community-calendar/baron-hirsch-tot-holiday-craft-pr
 ogram-1472360950\n\nTots are invited to make holiday crafts - no charge
DTSTART;TZID=America/Chicago:20170521T100000
DTEND;TZID=America/Chicago:20170521T110000
END:VEVENT
END:VCALENDAR
