BEGIN:VCALENDAR
PRODID:-//eluceo/ical//2.0/EN
VERSION:2.0
CALSCALE:GREGORIAN
BEGIN:VEVENT
UID:97ae72b87c44ad6fbac7ffe821ca408a
DTSTAMP:20260419T223619Z
SUMMARY:ASBEE Joint  Yom HaAtzmaut Celebration
DESCRIPTION:Jewish Community Partners\nMemphis Jewish Community Calendar\nh
 ttps://jcpmemphis.org/community-calendar/baron-hirsch-yom-haatzmaut-celebr
 ation-1527863854\n\nYom Haatzmaut – Israel Independence Day\n\n \n\nYou
  are invited to join the community for a celebration of Israel’s 71st Bi
 rthday\, a joint program with Baron Hirsch Congregation and Young Israel.\
 n\n \n\nThe program will commence at 7PM with Mincha\, followed by a spec
 ial service\, including:\n\n \n\n                A memoria
 l for fallen soldiers and terror victims\n\n               
  Children’s choir and choreography\n\n                Pra
 ye...
DTSTART;TZID=America/Chicago:20190508T190000
DTEND;TZID=America/Chicago:20190508T220000
END:VEVENT
END:VCALENDAR
