BEGIN:VCALENDAR
PRODID:-//eluceo/ical//2.0/EN
VERSION:2.0
CALSCALE:GREGORIAN
BEGIN:VEVENT
UID:861feb0daf2f6d780dc8598aa95de83b
DTSTAMP:20260421T112913Z
SUMMARY:Baron Hirsch Young Prof Make Your Own Night
DESCRIPTION:Jewish Community Partners\nMemphis Jewish Community Calendar\nh
 ttps://jcpmemphis.org/community-calendar/baron-hirsch-young-prof-make-your
 -own-night-1527861420\n\nBaron Hirsch Young Prof Make Your Own Night
DTSTART;TZID=America/Chicago:20190105T193000
DTEND;TZID=America/Chicago:20190105T220000
END:VEVENT
END:VCALENDAR
