BEGIN:VCALENDAR
PRODID:-//eluceo/ical//2.0/EN
VERSION:2.0
CALSCALE:GREGORIAN
BEGIN:VEVENT
UID:90f0daee034d5b0cb0ceeebb1205c4da
DTSTAMP:20260419T225225Z
SUMMARY:Baron Hirsch Young Professionals DInner
DESCRIPTION:Jewish Community Partners\nMemphis Jewish Community Calendar\nh
 ttps://jcpmemphis.org/community-calendar/baron-hirsch-young-professionals-
 dinner\n\nShabbat Dinner for the under 35 crowd
DTSTART;TZID=America/Chicago:20150130T180000
DTEND;TZID=America/Chicago:20150130T210000
END:VEVENT
END:VCALENDAR
