BEGIN:VCALENDAR
PRODID:-//eluceo/ical//2.0/EN
VERSION:2.0
CALSCALE:GREGORIAN
BEGIN:VEVENT
UID:0098c2bfb2c50012d7f9613fe92a4951
DTSTAMP:20260419T172158Z
SUMMARY:Baron Hosts Shabbat with Racheli Frankel
DESCRIPTION:Jewish Community Partners\nMemphis Jewish Community Calendar\nh
 ttps://jcpmemphis.org/community-calendar/baron-hosts-shabbat-with-racheli-
 frankel-1514436352\n\nBaron Hirsch hosts Racheli Frankel\, mother of Nafta
 li Frankel\, A"H\, who was kidnapped and murdered along with two other boy
 s in 2014
DTSTART;TZID=America/Chicago:20180608T180000
DTEND;TZID=America/Chicago:20180609T220000
END:VEVENT
END:VCALENDAR
