BEGIN:VCALENDAR
PRODID:-//eluceo/ical//2.0/EN
VERSION:2.0
CALSCALE:GREGORIAN
BEGIN:VEVENT
UID:420c1167f70c43aaa89e67a158ef73ac
DTSTAMP:20260421T142823Z
SUMMARY:BBYO CSR SPRING CONVENTION
DESCRIPTION:Jewish Community Partners\nMemphis Jewish Community Calendar\nh
 ttps://jcpmemphis.org/community-calendar/bbyo-csr-spring-convention-150964
 2543\n\nCSR BBYO SPRING CONVENTION\n\n \n\nThis event is open to BBYO me
 mbers.
DTSTART;TZID=America/Chicago:20180427T120000
DTEND;TZID=America/Chicago:20180429T170000
END:VEVENT
END:VCALENDAR
